BEGIN:VCALENDAR
VERSION:2.0
PRODID:-//Damazan - ECPv6.15.20//NONSGML v1.0//EN
CALSCALE:GREGORIAN
METHOD:PUBLISH
X-WR-CALNAME:Damazan
X-ORIGINAL-URL:https://damazan.fr
X-WR-CALDESC:Évènements pour Damazan
REFRESH-INTERVAL;VALUE=DURATION:PT1H
X-Robots-Tag:noindex
X-PUBLISHED-TTL:PT1H
BEGIN:VTIMEZONE
TZID:Europe/Paris
BEGIN:DAYLIGHT
TZOFFSETFROM:+0100
TZOFFSETTO:+0200
TZNAME:CEST
DTSTART:20250330T010000
END:DAYLIGHT
BEGIN:STANDARD
TZOFFSETFROM:+0200
TZOFFSETTO:+0100
TZNAME:CET
DTSTART:20251026T010000
END:STANDARD
BEGIN:DAYLIGHT
TZOFFSETFROM:+0100
TZOFFSETTO:+0200
TZNAME:CEST
DTSTART:20260329T010000
END:DAYLIGHT
BEGIN:STANDARD
TZOFFSETFROM:+0200
TZOFFSETTO:+0100
TZNAME:CET
DTSTART:20261025T010000
END:STANDARD
BEGIN:DAYLIGHT
TZOFFSETFROM:+0100
TZOFFSETTO:+0200
TZNAME:CEST
DTSTART:20270328T010000
END:DAYLIGHT
BEGIN:STANDARD
TZOFFSETFROM:+0200
TZOFFSETTO:+0100
TZNAME:CET
DTSTART:20271031T010000
END:STANDARD
END:VTIMEZONE
BEGIN:VEVENT
DTSTART;TZID=Europe/Paris:20260425T180000
DTEND;TZID=Europe/Paris:20260425T193000
DTSTAMP:20260420T190529
CREATED:20260420T121104Z
LAST-MODIFIED:20260420T121104Z
UID:5576-1777140000-1777145400@damazan.fr
SUMMARY:Récital de Printemps de l'École de Musique du Confluent
DESCRIPTION:
URL:https://damazan.fr/evenement/recital-de-printemps-de-lecole-de-musique-du-confluent/
LOCATION:Église St Félix\, Aiguillon\, 47190
CATEGORIES:evenements
ATTACH;FMTTYPE=image/jpeg:https://damazan.fr/wp-content/uploads/2026/04/Ecole-Musique-Recital-Printemps-25.04.2026.jpg
END:VEVENT
END:VCALENDAR